View In:
ArcGIS JavaScript
ArcGIS Online map viewer
Google Earth
ArcMap
View Footprint In:
ArcGIS Online map viewer
Service Description: Ortos 2018
Name: Inter_Intra/Ortos2018
Description: Ortos 2018
Single Fused Map Cache: false
Extent:
XMin: -54840.61009999902
YMin: 188542.9004999983
XMax: -38261.43819999755
YMax: 200494.24060000072
Spatial Reference: 3763
(3763)
Initial Extent:
XMin: -54840.61009999902
YMin: 188542.9004999983
XMax: -38261.43819999755
YMax: 200494.24060000072
Spatial Reference: 3763
(3763)
Full Extent:
XMin: -54840.61009999902
YMin: 188542.9004999983
XMax: -38261.43819999755
YMax: 200494.24060000072
Spatial Reference: 3763
(3763)
Pixel Size X: 0.24999882232310675
Pixel Size Y: 0.24999665523161144
Band Count: 4
Pixel Type: U8
RasterFunction Infos: {"name":"None","description":"","help":""}
Mensuration Capabilities: Basic
Has Histograms: true
Has Colormap: false
Has Multi Dimensions : false
Rendering Rule:
Min Scale: 0
Max Scale: 0
Copyright Text:
Service Data Type: esriImageServiceDataTypeGeneric
Min Values: 1, 1, 1, 0
Max Values: 255, 255, 255, 255
Mean Values: 91.12994161964335, 89.34126294337392, 85.78734926571289, 115.13437979108136
Standard Deviation Values: 53.688625117578425, 44.653646437912606, 38.01693314637021, 46.70399686617081
Object ID Field:
Fields:
None
Default Mosaic Method: Center
Allowed Mosaic Methods:
SortField:
SortValue: null
Mosaic Operator: First
Default Compression Quality: 75
Default Resampling Method: Bilinear
Max Record Count: null
Max Image Height: 4100
Max Image Width: 15000
Max Download Image Count: null
Max Mosaic Image Count: null
Allow Raster Function: true
Allow Compute TiePoints: false
Supports Statistics: false
Supports Advanced Queries: false
Use StandardizedQueries: true
Raster Type Infos:
Name: Raster Dataset
Description: Supports all ArcGIS Raster Datasets
Help:
Has Raster Attribute Table: false
Edit Fields Info: null
Ownership Based AccessControl For Rasters: null
Child Resources:
Info
Histograms
Key Properties
Legend
MultiDimensionalInfo
rasterFunctionInfos
Supported Operations:
Export Image
Identify
Measure
Compute Histograms
Compute Statistics Histograms
Get Samples
Compute Class Statistics